BEGIN:VCALENDAR
VERSION:2.0
PRODID:-//Teater Sagohuset - ECPv6.15.20//NONSGML v1.0//EN
CALSCALE:GREGORIAN
METHOD:PUBLISH
X-WR-CALNAME:Teater Sagohuset
X-ORIGINAL-URL:https://sagohuset.nu
X-WR-CALDESC:Händelser för Teater Sagohuset
REFRESH-INTERVAL;VALUE=DURATION:PT1H
X-Robots-Tag:noindex
X-PUBLISHED-TTL:PT1H
BEGIN:VTIMEZONE
TZID:UTC
BEGIN:STANDARD
TZOFFSETFROM:+0000
TZOFFSETTO:+0000
TZNAME:UTC
DTSTART:20250101T000000
END:STANDARD
END:VTIMEZONE
BEGIN:VEVENT
DTSTART;TZID=UTC:20260426T130000
DTEND;TZID=UTC:20260426T134500
DTSTAMP:20260426T011906
CREATED:20251211T094539Z
LAST-MODIFIED:20251211T094559Z
UID:10000853-1777208400-1777211100@sagohuset.nu
SUMMARY:Offentlig föreställning: Hattjakten - Helsingborg
DESCRIPTION:Familjeföreställning från 4 år \nMorfar har en hatt som han aldrig tar av sig. Utom när han ska sova. Det första han gör varje morgon är att sätta på sig hatten. Men en dag är hatten plötsligt borta. Morfar blir arg som en spik och skäller ut sin hund\, sen ger han sig iväg på ett galet äventyr för att leta efter den försvunna hatten. På resan träffar han Höna\, skräddarmäster Västerknäpp och försäljarkaninen Kanini. Men ingen vet vart morfars hatt har tagit vägen. \nPå sin heltokiga resa får morfar inte bara möta nya bekantskaper\, även minnen från hans barndom dyker upp. Och kanske finns det viktigare saker här i världen än en gammal hatt? \nSpelas på Dunkers Kulturhus
URL:https://sagohuset.nu/events/offentlig-forestallning-hattjakten-helsingborg/2026-04-26/1/
CATEGORIES:Öppna spelningar
ATTACH;FMTTYPE=image/jpeg:https://sagohuset.nu/wp-content/uploads/2025/09/EMP_TeaterSagohuset_Hattjakten_Webb_4944.jpg
END:VEVENT
BEGIN:VEVENT
DTSTART;TZID=UTC:20260426T140000
DTEND;TZID=UTC:20260426T153000
DTSTAMP:20260426T011906
CREATED:20260313T074802Z
LAST-MODIFIED:20260313T074802Z
UID:10000898-1777212000-1777217400@sagohuset.nu
SUMMARY:Offentlig föreställning: Fika med faster Dettan - Östra Göinge
DESCRIPTION:I Fika med faster Dettan får vi träffa Dettan som genom att berätta om sitt liv får oss att reflektera över våra. Hur var det när mamma var liten? Eller mormor? Var det bättre förr? Eller blir det bättre sen?\nFöreställningen är till största del byggd på inspelningar som skådespelaren Ola Cítron gjort med sin egen faster. Det skapar en autentisk inblick i hennes liv som väcker lusten att ställa nya frågor till våra när och kära. \nSpelas på Klockaregården i Knislinge.\nArrangör: Östra Göinge riksteaterförening
URL:https://sagohuset.nu/events/offentlig-forestallning-fika-med-faster-dettan-ostra-goinge/
CATEGORIES:Öppna spelningar
ATTACH;FMTTYPE=image/jpeg:https://sagohuset.nu/wp-content/uploads/2024/11/Fika-med-faster-Dettan.-Fotograf_-Emmalisa-Pauly-6-3-scaled.jpg
END:VEVENT
BEGIN:VEVENT
DTSTART;TZID=UTC:20260426T150000
DTEND;TZID=UTC:20260426T154500
DTSTAMP:20260426T011906
CREATED:20251211T094539Z
LAST-MODIFIED:20251211T094559Z
UID:10000854-1777215600-1777218300@sagohuset.nu
SUMMARY:Offentlig föreställning: Hattjakten - Helsingborg
DESCRIPTION:Familjeföreställning från 4 år \nMorfar har en hatt som han aldrig tar av sig. Utom när han ska sova. Det första han gör varje morgon är att sätta på sig hatten. Men en dag är hatten plötsligt borta. Morfar blir arg som en spik och skäller ut sin hund\, sen ger han sig iväg på ett galet äventyr för att leta efter den försvunna hatten. På resan träffar han Höna\, skräddarmäster Västerknäpp och försäljarkaninen Kanini. Men ingen vet vart morfars hatt har tagit vägen. \nPå sin heltokiga resa får morfar inte bara möta nya bekantskaper\, även minnen från hans barndom dyker upp. Och kanske finns det viktigare saker här i världen än en gammal hatt? \nSpelas på Dunkers Kulturhus
URL:https://sagohuset.nu/events/offentlig-forestallning-hattjakten-helsingborg/2026-04-26/2/
CATEGORIES:Öppna spelningar
ATTACH;FMTTYPE=image/jpeg:https://sagohuset.nu/wp-content/uploads/2025/09/EMP_TeaterSagohuset_Hattjakten_Webb_4944.jpg
END:VEVENT
END:VCALENDAR