BEGIN:VCALENDAR
VERSION:2.0
PRODID:-//Teater Sagohuset - ECPv6.15.20//NONSGML v1.0//EN
CALSCALE:GREGORIAN
METHOD:PUBLISH
X-WR-CALNAME:Teater Sagohuset
X-ORIGINAL-URL:https://sagohuset.nu
X-WR-CALDESC:Händelser för Teater Sagohuset
REFRESH-INTERVAL;VALUE=DURATION:PT1H
X-Robots-Tag:noindex
X-PUBLISHED-TTL:PT1H
BEGIN:VTIMEZONE
TZID:UTC
BEGIN:STANDARD
TZOFFSETFROM:+0000
TZOFFSETTO:+0000
TZNAME:UTC
DTSTART:20230101T000000
END:STANDARD
END:VTIMEZONE
BEGIN:VEVENT
DTSTART;TZID=UTC:20241202T090000
DTEND;TZID=UTC:20241202T094500
DTSTAMP:20260425T133137
CREATED:20240627T142155Z
LAST-MODIFIED:20240627T142155Z
UID:10000515-1733130000-1733132700@sagohuset.nu
SUMMARY:Skolföreställning: Det var en gång...- Lund för Staffanstorps kommun
DESCRIPTION:4-7 år\nSpelas på Teater Sagohuset för Staffanstorps kommun \nI Det var en gång… får vi kliva in i Sagobokens fantastiska värld och möta spännande och roliga karaktärer ur vår rika sagoskatt. Troll\, talande fåglar\, magiska föremål och ruskiga drakar får liv när vår ensemble gestaltar folksagorna och väcker nyfikenhet och inspirerar till både eget berättande och lek.\nMed Det var en gång… vill Teater Sagohuset bidra till att skapa nyfikenhet och intresse för sagor och läsning.
URL:https://sagohuset.nu/events/skolforestallning-det-var-en-gang-lund-for-staffanstorps-kommun/2024-12-02/1/
CATEGORIES:skolföreställningar
ATTACH;FMTTYPE=image/jpeg:https://sagohuset.nu/wp-content/uploads/2024/03/Det-var-en-g†ng_leonhardt_rektangul„r_web.jpg
END:VEVENT
BEGIN:VEVENT
DTSTART;TZID=UTC:20241202T103000
DTEND;TZID=UTC:20241202T111500
DTSTAMP:20260425T133137
CREATED:20240627T142155Z
LAST-MODIFIED:20240627T142155Z
UID:10000516-1733135400-1733138100@sagohuset.nu
SUMMARY:Skolföreställning: Det var en gång...- Lund för Staffanstorps kommun
DESCRIPTION:4-7 år\nSpelas på Teater Sagohuset för Staffanstorps kommun \nI Det var en gång… får vi kliva in i Sagobokens fantastiska värld och möta spännande och roliga karaktärer ur vår rika sagoskatt. Troll\, talande fåglar\, magiska föremål och ruskiga drakar får liv när vår ensemble gestaltar folksagorna och väcker nyfikenhet och inspirerar till både eget berättande och lek.\nMed Det var en gång… vill Teater Sagohuset bidra till att skapa nyfikenhet och intresse för sagor och läsning.
URL:https://sagohuset.nu/events/skolforestallning-det-var-en-gang-lund-for-staffanstorps-kommun/2024-12-02/2/
CATEGORIES:skolföreställningar
ATTACH;FMTTYPE=image/jpeg:https://sagohuset.nu/wp-content/uploads/2024/03/Det-var-en-g†ng_leonhardt_rektangul„r_web.jpg
END:VEVENT
BEGIN:VEVENT
DTSTART;TZID=UTC:20241203T090000
DTEND;TZID=UTC:20241203T094500
DTSTAMP:20260425T133137
CREATED:20240627T142155Z
LAST-MODIFIED:20240627T142155Z
UID:10000517-1733216400-1733219100@sagohuset.nu
SUMMARY:Skolföreställning: Det var en gång...- Lund för Staffanstorps kommun
DESCRIPTION:4-7 år\nSpelas på Teater Sagohuset för Staffanstorps kommun \nI Det var en gång… får vi kliva in i Sagobokens fantastiska värld och möta spännande och roliga karaktärer ur vår rika sagoskatt. Troll\, talande fåglar\, magiska föremål och ruskiga drakar får liv när vår ensemble gestaltar folksagorna och väcker nyfikenhet och inspirerar till både eget berättande och lek.\nMed Det var en gång… vill Teater Sagohuset bidra till att skapa nyfikenhet och intresse för sagor och läsning.
URL:https://sagohuset.nu/events/skolforestallning-det-var-en-gang-lund-for-staffanstorps-kommun/2024-12-03/1/
CATEGORIES:skolföreställningar
ATTACH;FMTTYPE=image/jpeg:https://sagohuset.nu/wp-content/uploads/2024/03/Det-var-en-g†ng_leonhardt_rektangul„r_web.jpg
END:VEVENT
BEGIN:VEVENT
DTSTART;TZID=UTC:20241203T103000
DTEND;TZID=UTC:20241203T111500
DTSTAMP:20260425T133137
CREATED:20240627T142155Z
LAST-MODIFIED:20240627T142155Z
UID:10000518-1733221800-1733224500@sagohuset.nu
SUMMARY:Skolföreställning: Det var en gång...- Lund för Staffanstorps kommun
DESCRIPTION:4-7 år\nSpelas på Teater Sagohuset för Staffanstorps kommun \nI Det var en gång… får vi kliva in i Sagobokens fantastiska värld och möta spännande och roliga karaktärer ur vår rika sagoskatt. Troll\, talande fåglar\, magiska föremål och ruskiga drakar får liv när vår ensemble gestaltar folksagorna och väcker nyfikenhet och inspirerar till både eget berättande och lek.\nMed Det var en gång… vill Teater Sagohuset bidra till att skapa nyfikenhet och intresse för sagor och läsning.
URL:https://sagohuset.nu/events/skolforestallning-det-var-en-gang-lund-for-staffanstorps-kommun/2024-12-03/2/
CATEGORIES:skolföreställningar
ATTACH;FMTTYPE=image/jpeg:https://sagohuset.nu/wp-content/uploads/2024/03/Det-var-en-g†ng_leonhardt_rektangul„r_web.jpg
END:VEVENT
BEGIN:VEVENT
DTSTART;TZID=UTC:20241204T090000
DTEND;TZID=UTC:20241204T094500
DTSTAMP:20260425T133137
CREATED:20240627T142155Z
LAST-MODIFIED:20240627T142155Z
UID:10000519-1733302800-1733305500@sagohuset.nu
SUMMARY:Skolföreställning: Det var en gång...- Lund för Staffanstorps kommun
DESCRIPTION:4-7 år\nSpelas på Teater Sagohuset för Staffanstorps kommun \nI Det var en gång… får vi kliva in i Sagobokens fantastiska värld och möta spännande och roliga karaktärer ur vår rika sagoskatt. Troll\, talande fåglar\, magiska föremål och ruskiga drakar får liv när vår ensemble gestaltar folksagorna och väcker nyfikenhet och inspirerar till både eget berättande och lek.\nMed Det var en gång… vill Teater Sagohuset bidra till att skapa nyfikenhet och intresse för sagor och läsning.
URL:https://sagohuset.nu/events/skolforestallning-det-var-en-gang-lund-for-staffanstorps-kommun/2024-12-04/1/
CATEGORIES:skolföreställningar
ATTACH;FMTTYPE=image/jpeg:https://sagohuset.nu/wp-content/uploads/2024/03/Det-var-en-g†ng_leonhardt_rektangul„r_web.jpg
END:VEVENT
BEGIN:VEVENT
DTSTART;TZID=UTC:20241204T103000
DTEND;TZID=UTC:20241204T111500
DTSTAMP:20260425T133137
CREATED:20240627T142155Z
LAST-MODIFIED:20240627T142155Z
UID:10000520-1733308200-1733310900@sagohuset.nu
SUMMARY:Skolföreställning: Det var en gång...- Lund för Staffanstorps kommun
DESCRIPTION:4-7 år\nSpelas på Teater Sagohuset för Staffanstorps kommun \nI Det var en gång… får vi kliva in i Sagobokens fantastiska värld och möta spännande och roliga karaktärer ur vår rika sagoskatt. Troll\, talande fåglar\, magiska föremål och ruskiga drakar får liv när vår ensemble gestaltar folksagorna och väcker nyfikenhet och inspirerar till både eget berättande och lek.\nMed Det var en gång… vill Teater Sagohuset bidra till att skapa nyfikenhet och intresse för sagor och läsning.
URL:https://sagohuset.nu/events/skolforestallning-det-var-en-gang-lund-for-staffanstorps-kommun/2024-12-04/2/
CATEGORIES:skolföreställningar
ATTACH;FMTTYPE=image/jpeg:https://sagohuset.nu/wp-content/uploads/2024/03/Det-var-en-g†ng_leonhardt_rektangul„r_web.jpg
END:VEVENT
BEGIN:VEVENT
DTSTART;TZID=UTC:20241205T090000
DTEND;TZID=UTC:20241205T094500
DTSTAMP:20260425T133137
CREATED:20240627T142155Z
LAST-MODIFIED:20240627T142155Z
UID:10000521-1733389200-1733391900@sagohuset.nu
SUMMARY:Skolföreställning: Det var en gång...- Lund för Staffanstorps kommun
DESCRIPTION:4-7 år\nSpelas på Teater Sagohuset för Staffanstorps kommun \nI Det var en gång… får vi kliva in i Sagobokens fantastiska värld och möta spännande och roliga karaktärer ur vår rika sagoskatt. Troll\, talande fåglar\, magiska föremål och ruskiga drakar får liv när vår ensemble gestaltar folksagorna och väcker nyfikenhet och inspirerar till både eget berättande och lek.\nMed Det var en gång… vill Teater Sagohuset bidra till att skapa nyfikenhet och intresse för sagor och läsning.
URL:https://sagohuset.nu/events/skolforestallning-det-var-en-gang-lund-for-staffanstorps-kommun/2024-12-05/
CATEGORIES:skolföreställningar
ATTACH;FMTTYPE=image/jpeg:https://sagohuset.nu/wp-content/uploads/2024/03/Det-var-en-g†ng_leonhardt_rektangul„r_web.jpg
END:VEVENT
END:VCALENDAR