BEGIN:VCALENDAR
VERSION:2.0
PRODID:-//Teater Sagohuset - ECPv6.15.20//NONSGML v1.0//EN
CALSCALE:GREGORIAN
METHOD:PUBLISH
X-ORIGINAL-URL:https://sagohuset.nu
X-WR-CALDESC:Händelser för Teater Sagohuset
REFRESH-INTERVAL;VALUE=DURATION:PT1H
X-Robots-Tag:noindex
X-PUBLISHED-TTL:PT1H
BEGIN:VTIMEZONE
TZID:UTC
BEGIN:STANDARD
TZOFFSETFROM:+0000
TZOFFSETTO:+0000
TZNAME:UTC
DTSTART:20240101T000000
END:STANDARD
END:VTIMEZONE
BEGIN:VEVENT
DTSTART;TZID=UTC:20250916T100000
DTEND;TZID=UTC:20250916T104500
DTSTAMP:20260421T131633
CREATED:20250624T065235Z
LAST-MODIFIED:20250624T065235Z
UID:10000744-1758016800-1758019500@sagohuset.nu
SUMMARY:Skolföreställning: Det var en gång en pojke som inte kunde bli rädd- Malmö (Muntligt berättande i förskolan)
DESCRIPTION:I varje barn bor en berättare\, och i varje berättelse finns en värld som väntar på att upptäckas.\nTillsammans med barn i åldern 4-6 år ska Teater Sagohuset utveckla en ny läsfrämjande metod\, där lek\, språkets magi och fantasi blir nycklar till berättandets kraft. Vår utgångspunkt är föreställningen ”Det var en gång en pojke som inte kunde bli rädd”\, som vi erbjuder gratis för deltagande förskolor. Vi spelar antingen på bibliotek eller på förskolan. Efter att barnen sett föreställningen kommer våra pedagoger ut till er förskola och gör ett pedagogiskt program som bygger på barnens delaktighet\, kreativitet och lek.Projektet genomförs i samarbete med bland andra Region Skåne och kommuner i Skåne. En forskare från Lunds universitet kommer att följa projektet för att undersöka om projektet främjar barnens språkutveckling.
URL:https://sagohuset.nu/events/skolforestallning-det-var-en-gang-en-pojke-som-inte-kunde-bli-radd-malmo-muntligt-berattande-i-forskolan/
CATEGORIES:skolföreställningar
ATTACH;FMTTYPE=image/jpeg:https://sagohuset.nu/wp-content/uploads/2024/09/DSC05832-scaled.jpeg
END:VEVENT
BEGIN:VEVENT
DTSTART;TZID=UTC:20250917T100000
DTEND;TZID=UTC:20250917T104500
DTSTAMP:20260421T131633
CREATED:20250624T065421Z
LAST-MODIFIED:20250624T065421Z
UID:10000745-1758103200-1758105900@sagohuset.nu
SUMMARY:Skolföreställning: Det var en gång en pojke som inte kunde bli rädd - Lund (Muntligt berättande i förskolan)
DESCRIPTION:I varje barn bor en berättare\, och i varje berättelse finns en värld som väntar på att upptäckas.\nTillsammans med barn i åldern 4-6 år ska Teater Sagohuset utveckla en ny läsfrämjande metod\, där lek\, språkets magi och fantasi blir nycklar till berättandets kraft. Vår utgångspunkt är föreställningen ”Det var en gång en pojke som inte kunde bli rädd”\, som vi erbjuder gratis för deltagande förskolor. Vi spelar antingen på bibliotek eller på förskolan. Efter att barnen sett föreställningen kommer våra pedagoger ut till er förskola och gör ett pedagogiskt program som bygger på barnens delaktighet\, kreativitet och lek. Projektet genomförs i samarbete med bland andra Region Skåne och kommuner i Skåne. En forskare från Lunds universitet kommer att följa projektet för att undersöka om projektet främjar barnens språkutveckling.\nLäs mer här: https://sagohuset.nu/muntligtberattande/
URL:https://sagohuset.nu/events/skolforestallning-det-var-en-gang-en-pojke-som-inte-kunde-bli-radd-lund-muntligt-berattande-i-forskolan/
CATEGORIES:skolföreställningar
ATTACH;FMTTYPE=image/jpeg:https://sagohuset.nu/wp-content/uploads/2024/09/DSC05832-scaled.jpeg
END:VEVENT
END:VCALENDAR