BEGIN:VCALENDAR
VERSION:2.0
PRODID:-//Teater Sagohuset - ECPv6.15.20//NONSGML v1.0//EN
CALSCALE:GREGORIAN
METHOD:PUBLISH
X-ORIGINAL-URL:https://sagohuset.nu
X-WR-CALDESC:Händelser för Teater Sagohuset
REFRESH-INTERVAL;VALUE=DURATION:PT1H
X-Robots-Tag:noindex
X-PUBLISHED-TTL:PT1H
BEGIN:VTIMEZONE
TZID:UTC
BEGIN:STANDARD
TZOFFSETFROM:+0000
TZOFFSETTO:+0000
TZNAME:UTC
DTSTART:20240101T000000
END:STANDARD
END:VTIMEZONE
BEGIN:VEVENT
DTSTART;TZID=UTC:20251011T110000
DTEND;TZID=UTC:20251011T114500
DTSTAMP:20260421T115154
CREATED:20250512T073641Z
LAST-MODIFIED:20250512T073641Z
UID:10000697-1760180400-1760183100@sagohuset.nu
SUMMARY:Offentlig föreställning: Det var en gång en pojke som inte kunde bli rädd - Svedala
DESCRIPTION:Tänk dig en stor bok som knakar\, brakar\, gnisslar och fnittrar. En bok full med sagor och berättelser. Den här gången är boken fylld med två spännande sagor\, fritt bearbetade av oss. I den första sagan möter herdeflickan ett hiskeligt troll som har försovit sig och riskerar att spricka i solen. I den andra sagan\, får vi följa med Hans på ett vindlande äventyr in i den djupaste skogen\, ner i underjorden och fram till en stad\, belägrad av en fasansfull drake. Två sagor som kretsar kring rädsla och vad det är vi egentligen blir rädda för. \nFrån 4 år \nSpelas på Bara Bibliotek\, Svedala.
URL:https://sagohuset.nu/events/offentlig-forestallning-det-var-en-gang-en-pojke-som-inte-kunde-bli-radd-svedala/
CATEGORIES:Öppna spelningar
ATTACH;FMTTYPE=image/jpeg:https://sagohuset.nu/wp-content/uploads/2025/02/Det-var-en-gang-Jonas-Svensson-Asa-Ahlander-Asa-Horling-och-Martin-Brandqvist-1-scaled.jpeg
END:VEVENT
BEGIN:VEVENT
DTSTART;TZID=UTC:20251019T140000
DTEND;TZID=UTC:20251019T144500
DTSTAMP:20260421T115154
CREATED:20250508T073734Z
LAST-MODIFIED:20250508T073734Z
UID:10000673-1760882400-1760885100@sagohuset.nu
SUMMARY:Offentlig föreställning: Det var en gång en pojke som inte kunde bli rädd - Östraby
DESCRIPTION:Tänk dig en stor bok som knakar\, brakar\, gnisslar och fnittrar. En bok full med sagor och berättelser. Den här gången är boken fylld med två spännande sagor\, fritt bearbetade av oss. I den första sagan möter herdeflickan ett hiskeligt troll som har försovit sig och riskerar att spricka i solen. I den andra sagan\, får vi följa med Hans på ett vindlande äventyr in i den djupaste skogen\, ner i underjorden och fram till en stad\, belägrad av en fasansfull drake. Två sagor som kretsar kring rädsla och vad det är vi egentligen blir rädda för. \nFrån 4 år \nSpelas i Östraby skola\, Östraby
URL:https://sagohuset.nu/events/offentlig-forestallning-det-var-en-gang-en-pojke-som-inte-kunde-bli-radd-ostraby/
CATEGORIES:Öppna spelningar
ATTACH;FMTTYPE=image/jpeg:https://sagohuset.nu/wp-content/uploads/2025/02/Det-var-en-gang-Jonas-Svensson-Asa-Ahlander-Asa-Horling-och-Martin-Brandqvist-1-scaled.jpeg
END:VEVENT
BEGIN:VEVENT
DTSTART;TZID=UTC:20251020T100000
DTEND;TZID=UTC:20251020T104500
DTSTAMP:20260421T115154
CREATED:20250624T070814Z
LAST-MODIFIED:20250624T070814Z
UID:10000748-1760954400-1760957100@sagohuset.nu
SUMMARY:Skolföreställning: Det var en gång en pojke som inte kunde bli rädd (Muntligt berättande i förskolan)
DESCRIPTION:I varje barn bor en berättare\, och i varje berättelse finns en värld som väntar på att upptäckas.\nTillsammans med barn i åldern 4-6 år ska Teater Sagohuset utveckla en ny läsfrämjande metod\, där lek\, språkets magi och fantasi blir nycklar till berättandets kraft. Vår utgångspunkt är föreställningen ”Det var en gång en pojke som inte kunde bli rädd”\, som vi erbjuder gratis för deltagande förskolor. Vi spelar antingen på bibliotek eller på förskolan. Efter att barnen sett föreställningen kommer våra pedagoger ut till er förskola och gör ett pedagogiskt program som bygger på barnens delaktighet\, kreativitet och lek. Projektet genomförs i samarbete med bland andra Region Skåne och kommuner i Skåne. En forskare från Lunds universitet kommer att följa projektet för att undersöka om projektet främjar barnens språkutveckling.\nLäs mer här: https://sagohuset.nu/muntligtberattande/
URL:https://sagohuset.nu/events/skolforestallning-det-var-en-gang-en-pojke-som-inte-kunde-bli-radd-muntligt-berattande-i-forskolan/2025-10-20/
CATEGORIES:skolföreställningar
ATTACH;FMTTYPE=image/jpeg:https://sagohuset.nu/wp-content/uploads/2024/09/DSC05832-scaled.jpeg
END:VEVENT
BEGIN:VEVENT
DTSTART;TZID=UTC:20251021T100000
DTEND;TZID=UTC:20251021T104500
DTSTAMP:20260421T115154
CREATED:20250624T070814Z
LAST-MODIFIED:20250624T070814Z
UID:10000749-1761040800-1761043500@sagohuset.nu
SUMMARY:Skolföreställning: Det var en gång en pojke som inte kunde bli rädd (Muntligt berättande i förskolan)
DESCRIPTION:I varje barn bor en berättare\, och i varje berättelse finns en värld som väntar på att upptäckas.\nTillsammans med barn i åldern 4-6 år ska Teater Sagohuset utveckla en ny läsfrämjande metod\, där lek\, språkets magi och fantasi blir nycklar till berättandets kraft. Vår utgångspunkt är föreställningen ”Det var en gång en pojke som inte kunde bli rädd”\, som vi erbjuder gratis för deltagande förskolor. Vi spelar antingen på bibliotek eller på förskolan. Efter att barnen sett föreställningen kommer våra pedagoger ut till er förskola och gör ett pedagogiskt program som bygger på barnens delaktighet\, kreativitet och lek. Projektet genomförs i samarbete med bland andra Region Skåne och kommuner i Skåne. En forskare från Lunds universitet kommer att följa projektet för att undersöka om projektet främjar barnens språkutveckling.\nLäs mer här: https://sagohuset.nu/muntligtberattande/
URL:https://sagohuset.nu/events/skolforestallning-det-var-en-gang-en-pojke-som-inte-kunde-bli-radd-muntligt-berattande-i-forskolan/2025-10-21/
CATEGORIES:skolföreställningar
ATTACH;FMTTYPE=image/jpeg:https://sagohuset.nu/wp-content/uploads/2024/09/DSC05832-scaled.jpeg
END:VEVENT
BEGIN:VEVENT
DTSTART;TZID=UTC:20251028T140000
DTEND;TZID=UTC:20251028T144500
DTSTAMP:20260421T115154
CREATED:20250508T074050Z
LAST-MODIFIED:20250508T074050Z
UID:10000674-1761660000-1761662700@sagohuset.nu
SUMMARY:Offentlig föreställning: Det var en gång en pojke som inte kunde bli rädd - Lönsboda
DESCRIPTION:Tänk dig en stor bok som knakar\, brakar\, gnisslar och fnittrar. En bok full med sagor och berättelser. Den här gången är boken fylld med två spännande sagor\, fritt bearbetade av oss. I den första sagan möter herdeflickan ett hiskeligt troll som har försovit sig och riskerar att spricka i solen. I den andra sagan\, får vi följa med Hans på ett vindlande äventyr in i den djupaste skogen\, ner i underjorden och fram till en stad\, belägrad av en fasansfull drake. Två sagor som kretsar kring rädsla och vad det är vi egentligen blir rädda för.\nFrån 4 år \nSpelas på Lönsboda Bibliotek.
URL:https://sagohuset.nu/events/offentlig-forestallning-det-var-en-gang-en-pojke-som-inte-kunde-bli-radd-lonsboda/
CATEGORIES:Öppna spelningar
ATTACH;FMTTYPE=image/jpeg:https://sagohuset.nu/wp-content/uploads/2025/02/Det-var-en-gang-Jonas-Svensson-Asa-Ahlander-Asa-Horling-och-Martin-Brandqvist-1-scaled.jpeg
END:VEVENT
END:VCALENDAR