BEGIN:VCALENDAR
VERSION:2.0
PRODID:-//Teater Sagohuset - ECPv6.15.20//NONSGML v1.0//EN
CALSCALE:GREGORIAN
METHOD:PUBLISH
X-WR-CALNAME:Teater Sagohuset
X-ORIGINAL-URL:https://sagohuset.nu
X-WR-CALDESC:Händelser för Teater Sagohuset
REFRESH-INTERVAL;VALUE=DURATION:PT1H
X-Robots-Tag:noindex
X-PUBLISHED-TTL:PT1H
BEGIN:VTIMEZONE
TZID:UTC
BEGIN:STANDARD
TZOFFSETFROM:+0000
TZOFFSETTO:+0000
TZNAME:UTC
DTSTART:20250101T000000
END:STANDARD
END:VTIMEZONE
BEGIN:VEVENT
DTSTART;TZID=UTC:20260507T130000
DTEND;TZID=UTC:20260507T143000
DTSTAMP:20260420T094923
CREATED:20260313T075502Z
LAST-MODIFIED:20260313T075502Z
UID:10000901-1778158800-1778164200@sagohuset.nu
SUMMARY:Skolevenemang: Barn frågar Lund - Lund
DESCRIPTION:Ett samarbetsprojekt mellan Teater Sagohuset och Lunds Universitet. \nProjektet är designat för att stimulera barn i åldrarna 10-12 år i att tänka på\, och ifrågasätta\, information de blir matade med från olika håll. I projektet förenas aktuell\nforskning och vetenskap med kultur och scenkonst till en syntes\, ett helt nytt koncept för deltagarbaserat lärande. \nI projektet undersöker vi följande teman; Jorden\, Rymden\, Människan och Kärleken.\nVarje tema kommer att belysas tvärvetenskapligt och scenkonstnärligt med utgångspunkt från barnens egna frågeställningar. \nProjektet genomförs i tre olika delar.\nI den första delen besöker våra pedagoger fjärdeklasser för att diskutera ett av våra teman. Vi undersöker och samlar in frågeställningar som barnen har kring respektive tema. Därefter matchas frågeställningarna med forskare/studenter vid Lunds universitets olika fakulteter. \nI den andra delen används materialet vi från fram i besöken med klasserna som underlag för forskarna/studenterna för att producera svar i form av roliga experiment m.m. Teater Sagohuset använder samma underlag för att skapa scenkonstföreställningar. \nI den sista delen är det ”livemöte” på teatern där skolklasserna kommer för att ta del av en föreställning\, ställa sina frågor\, samt få delta i experiment och samtal med forskare/studenter som på sina vis svarar på elevernas frågor.\nDessa unika tillfällen/möten filmas och streamas ut till klassrum i hela Skåne.
URL:https://sagohuset.nu/events/skolevenemang-barn-fragar-lund-lund/
CATEGORIES:skolföreställningar
ATTACH;FMTTYPE=image/jpeg:https://sagohuset.nu/wp-content/uploads/2025/05/DSC07259-scaled.jpeg
END:VEVENT
BEGIN:VEVENT
DTSTART;TZID=UTC:20260508T110000
DTEND;TZID=UTC:20260508T143000
DTSTAMP:20260420T094923
CREATED:20260313T075601Z
LAST-MODIFIED:20260313T075601Z
UID:10000902-1778238000-1778250600@sagohuset.nu
SUMMARY:Skolevenemang: Barn frågar Lund - Malmö
DESCRIPTION:Ett samarbetsprojekt mellan Teater Sagohuset och Lunds Universitet. \nProjektet är designat för att stimulera barn i åldrarna 10-12 år i att tänka på\, och ifrågasätta\, information de blir matade med från olika håll. I projektet förenas aktuell\nforskning och vetenskap med kultur och scenkonst till en syntes\, ett helt nytt koncept för deltagarbaserat lärande. \nI projektet undersöker vi följande teman; Jorden\, Rymden\, Människan och Kärleken.\nVarje tema kommer att belysas tvärvetenskapligt och scenkonstnärligt med utgångspunkt från barnens egna frågeställningar. \nProjektet genomförs i tre olika delar.\nI den första delen besöker våra pedagoger fjärdeklasser för att diskutera ett av våra teman. Vi undersöker och samlar in frågeställningar som barnen har kring respektive tema. Därefter matchas frågeställningarna med forskare/studenter vid Lunds universitets olika fakulteter. \nI den andra delen används materialet vi från fram i besöken med klasserna som underlag för forskarna/studenterna för att producera svar i form av roliga experiment m.m. Teater Sagohuset använder samma underlag för att skapa scenkonstföreställningar. \nI den sista delen är det ”livemöte” på teatern där skolklasserna kommer för att ta del av en föreställning\, ställa sina frågor\, samt få delta i experiment och samtal med forskare/studenter som på sina vis svarar på elevernas frågor.\nDessa unika tillfällen/möten filmas och streamas ut till klassrum i hela Skåne.
URL:https://sagohuset.nu/events/skolevenemang-barn-fragar-lund-malmo/
CATEGORIES:skolföreställningar
ATTACH;FMTTYPE=image/jpeg:https://sagohuset.nu/wp-content/uploads/2025/05/DSC07259-scaled.jpeg
END:VEVENT
BEGIN:VEVENT
DTSTART;TZID=UTC:20260519T100000
DTEND;TZID=UTC:20260519T111000
DTSTAMP:20260420T094923
CREATED:20260313T082144Z
LAST-MODIFIED:20260313T082144Z
UID:10000903-1779184800-1779189000@sagohuset.nu
SUMMARY:Skolföreställning: Vems Lilla Mössa Flyger? - Lund
DESCRIPTION:I Barnhans land finns många egensinniga figurer\, precis som i verkliga livet. De promenerar runt och pysslar med lite allt möjligt\, som att leva och dö\, starta hemliga föreningar\, leta efter kärlek och en massa andra saker. Farbrornallen har med sin pondus och grammofonspelare utsett sig själv till ordningsman. En uppgift som han tar på mycket stort allvar även om det inte alltid är så lätt att få någon att lyssna. Men det spelar kanske ingen roll? För ibland sker det ändå mirakel. \n\n\n\n\n\n\n\n\nMed tio skådespelare på scenen från Teater Sagohuset\, Moomsteatern och Skånes Dansteater presenterar vi denna varma\, roliga och lite vemodiga föreställning. En hyllning till det skeva och luggslitna i allas våra liv och en ömsint berättelse om att vi alla har en plats att fylla. \nSpelas på Teater Sagohuset i Lund för skolor i Lunds kommun. Bokning via: https://www.studyalong.se/?option=com_pa_coursemanager&task=coursefinder.showProgramme&Itemid=71&sid=154#textsearch=vems+lilla+m%C3%B6ssa
URL:https://sagohuset.nu/events/skolforestallning-vems-lilla-mossa-flyger-lund-2/2026-05-19/
CATEGORIES:skolföreställningar
ATTACH;FMTTYPE=image/jpeg:https://sagohuset.nu/wp-content/uploads/2026/03/FarbrorPricknalle_fotografBodilJohansson.jpg
END:VEVENT
BEGIN:VEVENT
DTSTART;TZID=UTC:20260520T100000
DTEND;TZID=UTC:20260520T111000
DTSTAMP:20260420T094923
CREATED:20260313T082144Z
LAST-MODIFIED:20260313T082144Z
UID:10000904-1779271200-1779275400@sagohuset.nu
SUMMARY:Skolföreställning: Vems Lilla Mössa Flyger? - Lund
DESCRIPTION:I Barnhans land finns många egensinniga figurer\, precis som i verkliga livet. De promenerar runt och pysslar med lite allt möjligt\, som att leva och dö\, starta hemliga föreningar\, leta efter kärlek och en massa andra saker. Farbrornallen har med sin pondus och grammofonspelare utsett sig själv till ordningsman. En uppgift som han tar på mycket stort allvar även om det inte alltid är så lätt att få någon att lyssna. Men det spelar kanske ingen roll? För ibland sker det ändå mirakel. \n\n\n\n\n\n\n\n\nMed tio skådespelare på scenen från Teater Sagohuset\, Moomsteatern och Skånes Dansteater presenterar vi denna varma\, roliga och lite vemodiga föreställning. En hyllning till det skeva och luggslitna i allas våra liv och en ömsint berättelse om att vi alla har en plats att fylla. \nSpelas på Teater Sagohuset i Lund för skolor i Lunds kommun. Bokning via: https://www.studyalong.se/?option=com_pa_coursemanager&task=coursefinder.showProgramme&Itemid=71&sid=154#textsearch=vems+lilla+m%C3%B6ssa
URL:https://sagohuset.nu/events/skolforestallning-vems-lilla-mossa-flyger-lund-2/2026-05-20/
CATEGORIES:skolföreställningar
ATTACH;FMTTYPE=image/jpeg:https://sagohuset.nu/wp-content/uploads/2026/03/FarbrorPricknalle_fotografBodilJohansson.jpg
END:VEVENT
BEGIN:VEVENT
DTSTART;TZID=UTC:20260521T100000
DTEND;TZID=UTC:20260521T111000
DTSTAMP:20260420T094923
CREATED:20260313T082144Z
LAST-MODIFIED:20260313T082144Z
UID:10000905-1779357600-1779361800@sagohuset.nu
SUMMARY:Skolföreställning: Vems Lilla Mössa Flyger? - Lund
DESCRIPTION:I Barnhans land finns många egensinniga figurer\, precis som i verkliga livet. De promenerar runt och pysslar med lite allt möjligt\, som att leva och dö\, starta hemliga föreningar\, leta efter kärlek och en massa andra saker. Farbrornallen har med sin pondus och grammofonspelare utsett sig själv till ordningsman. En uppgift som han tar på mycket stort allvar även om det inte alltid är så lätt att få någon att lyssna. Men det spelar kanske ingen roll? För ibland sker det ändå mirakel. \n\n\n\n\n\n\n\n\nMed tio skådespelare på scenen från Teater Sagohuset\, Moomsteatern och Skånes Dansteater presenterar vi denna varma\, roliga och lite vemodiga föreställning. En hyllning till det skeva och luggslitna i allas våra liv och en ömsint berättelse om att vi alla har en plats att fylla. \nSpelas på Teater Sagohuset i Lund för skolor i Lunds kommun. Bokning via: https://www.studyalong.se/?option=com_pa_coursemanager&task=coursefinder.showProgramme&Itemid=71&sid=154#textsearch=vems+lilla+m%C3%B6ssa
URL:https://sagohuset.nu/events/skolforestallning-vems-lilla-mossa-flyger-lund-2/2026-05-21/
CATEGORIES:skolföreställningar
ATTACH;FMTTYPE=image/jpeg:https://sagohuset.nu/wp-content/uploads/2026/03/FarbrorPricknalle_fotografBodilJohansson.jpg
END:VEVENT
BEGIN:VEVENT
DTSTART;TZID=UTC:20260522T100000
DTEND;TZID=UTC:20260522T110000
DTSTAMP:20260420T094923
CREATED:20260313T082144Z
LAST-MODIFIED:20260313T082144Z
UID:10000906-1779444000-1779447600@sagohuset.nu
SUMMARY:Skolföreställning: Vems Lilla Mössa Flyger? - Lund
DESCRIPTION:I Barnhans land finns många egensinniga figurer\, precis som i verkliga livet. De promenerar runt och pysslar med lite allt möjligt\, som att leva och dö\, starta hemliga föreningar\, leta efter kärlek och en massa andra saker. Farbrornallen har med sin pondus och grammofonspelare utsett sig själv till ordningsman. En uppgift som han tar på mycket stort allvar även om det inte alltid är så lätt att få någon att lyssna. Men det spelar kanske ingen roll? För ibland sker det ändå mirakel. \n\n\n\n\n\n\n\n\nMed tio skådespelare på scenen från Teater Sagohuset\, Moomsteatern och Skånes Dansteater presenterar vi denna varma\, roliga och lite vemodiga föreställning. En hyllning till det skeva och luggslitna i allas våra liv och en ömsint berättelse om att vi alla har en plats att fylla. \nSpelas på Teater Sagohuset i Lund för skolor i Lunds kommun. Bokning via: https://www.studyalong.se/?option=com_pa_coursemanager&task=coursefinder.showProgramme&Itemid=71&sid=154#textsearch=vems+lilla+m%C3%B6ssa
URL:https://sagohuset.nu/events/skolforestallning-vems-lilla-mossa-flyger-lund-2/2026-05-22/
CATEGORIES:skolföreställningar
ATTACH;FMTTYPE=image/jpeg:https://sagohuset.nu/wp-content/uploads/2026/03/FarbrorPricknalle_fotografBodilJohansson.jpg
END:VEVENT
END:VCALENDAR